BEGIN:VCALENDAR
VERSION:2.0
PRODID:-//CERN//INDICO//EN
BEGIN:VEVENT
SUMMARY:Cybersecurity Capacity Building
DTSTART:20260309T180000Z
DTEND:20260313T200000Z
DTSTAMP:20260422T103400Z
UID:indico-event-149@events.ubuntunet.net
CONTACT:devops@ubuntunet.net
DESCRIPTION:The Cybersecurity Capacity Building Programme is designed to s
 trengthen the ability of NRENs to prevent\, detect\, and respond to cyber 
 threats in increasingly complex digital environments. The programme combin
 es strategic\, technical\, and governance perspectives on cybersecurity.\n
 Key topics include AI-driven threat detection\, zero-trust architectures\,
  cybersecurity compliance\, incident response\, digital forensics\, SIEM o
 perations\, and cloud security. Participants will also explore data protec
 tion\, privacy\, governance frameworks\, and emerging areas such as post-q
 uantum cryptography.\nThis programme supports NRENs in building robust sec
 urity operations and fostering a culture of cyber resilience.\n\nhttps://e
 vents.ubuntunet.net/event/149/
LOCATION:Malawi
URL:https://events.ubuntunet.net/event/149/
END:VEVENT
END:VCALENDAR
